BEGIN:VCALENDAR
VERSION:2.0
PRODID:-//Ion District - ECPv6.15.18//NONSGML v1.0//EN
CALSCALE:GREGORIAN
METHOD:PUBLISH
X-WR-CALNAME:Ion District
X-ORIGINAL-URL:https://iondistrict.com
X-WR-CALDESC:Events for Ion District
REFRESH-INTERVAL;VALUE=DURATION:PT1H
X-Robots-Tag:noindex
X-PUBLISHED-TTL:PT1H
BEGIN:VTIMEZONE
TZID:America/Chicago
BEGIN:DAYLIGHT
TZOFFSETFROM:-0600
TZOFFSETTO:-0500
TZNAME:CDT
DTSTART:20210314T080000
END:DAYLIGHT
BEGIN:STANDARD
TZOFFSETFROM:-0500
TZOFFSETTO:-0600
TZNAME:CST
DTSTART:20211107T070000
END:STANDARD
BEGIN:DAYLIGHT
TZOFFSETFROM:-0600
TZOFFSETTO:-0500
TZNAME:CDT
DTSTART:20220313T080000
END:DAYLIGHT
BEGIN:STANDARD
TZOFFSETFROM:-0500
TZOFFSETTO:-0600
TZNAME:CST
DTSTART:20221106T070000
END:STANDARD
BEGIN:DAYLIGHT
TZOFFSETFROM:-0600
TZOFFSETTO:-0500
TZNAME:CDT
DTSTART:20230312T080000
END:DAYLIGHT
BEGIN:STANDARD
TZOFFSETFROM:-0500
TZOFFSETTO:-0600
TZNAME:CST
DTSTART:20231105T070000
END:STANDARD
BEGIN:DAYLIGHT
TZOFFSETFROM:-0600
TZOFFSETTO:-0500
TZNAME:CDT
DTSTART:20240310T080000
END:DAYLIGHT
BEGIN:STANDARD
TZOFFSETFROM:-0500
TZOFFSETTO:-0600
TZNAME:CST
DTSTART:20241103T070000
END:STANDARD
END:VTIMEZONE
BEGIN:VEVENT
DTSTART;TZID=America/Chicago:20230417T073000
DTEND;TZID=America/Chicago:20230418T171500
DTSTAMP:20260423T104646
CREATED:20230417T193036Z
LAST-MODIFIED:20230417T193036Z
UID:10000339-1681716600-1681838100@iondistrict.com
SUMMARY:AI Powered Renewable Energy Workshop
DESCRIPTION:Join us for a 2-day workshop covering the latest advances in Artificial Intelligence (AI) at the Ion!\n\n\nAI Houston Institute of Rice University in partnership with Ion is getting together experts from academia and industry working on the application of Artificial Intelligence (AI) in solving some of the most complex challenges facing the Energy industry as it transitions into alternative sources of energy that are green and sustainable.  \nIt will be a 2-day workshop covering the latest advances in AI – theory and practice\, and their applicability in three broad areas – Wind\, Carbon Capture\, Utilization\, Storage (CCUS)\, and Geothermal. There are several well-renowned speakers and panelists lined up from both the industry and academia. This workshop invites technology and business leaders from the energy industry and the startup community. Every better way needs a place to begin. Join us for the 2023 AI-Powered Renewable Energy Workshop at the Ion to start the conversation and network to create a resilient and sustainable energy future. \nFor the full agenda\, please go to: https://aihouston.rice.edu/ai-powered-renewable-energy-workshop \n\n\nVisitor Parking Lot: Enter 4200 Fannin Street into your GPS for directions directly to the visitor parking lot\, located in front of the Ion building. \nOverflow Parking Instructions: Enter 4203 Fannin Street into your GPS for directions directly to the red parking lot\, located across the street from the Ion building.
URL:https://iondistrict.com/event/ai-powered-renewable-energy-workshop/
LOCATION:Ion\, 4201 Main Street\, Houston\, TX\, 77002\, United States
END:VEVENT
BEGIN:VEVENT
DTSTART;TZID=America/Chicago:20230303T110000
DTEND;TZID=America/Chicago:20230303T130000
DTSTAMP:20260423T104646
CREATED:20230417T180051Z
LAST-MODIFIED:20230417T180051Z
UID:10000296-1677841200-1677848400@iondistrict.com
SUMMARY:Sewn Goods Office Hours at Ion Prototyping Lab
DESCRIPTION:Do you have a new product idea you want to bring to life but don’t know where to start? IPL+HTX Sewn Goods Office Hours are here to help!\n\n\nIon Prototyping Lab is partnering with HTX Sewn Goods team to turn your idea into a tangible prototype. During office hours\, you’ll have the opportunity to ask questions and discuss cutting\, sourcing\, material\, construction\, and production options. Plus\, you’ll leave with a clear understanding of the prototyping process and the next steps you need to take to bring your product to market. \n\n\nParking Instructions\nVisitor Parking Lot: Enter 4200 Fannin Street into your GPS for directions directly to the visitor parking lot\, located in front of the Ion building. \nOverflow Parking Instructions: Enter 4203 Fannin Street into your GPS for directions directly to this parking lot\, located across the street from the Ion building.
URL:https://iondistrict.com/event/sewn-goods-office-hours-at-ion-prototyping-lab-3/
LOCATION:Ion\, 4201 Main Street\, Houston\, TX\, 77002\, United States
END:VEVENT
BEGIN:VEVENT
DTSTART;TZID=America/Chicago:20220929T153000
DTEND;TZID=America/Chicago:20220929T173000
DTSTAMP:20260423T104646
CREATED:20230417T195933Z
LAST-MODIFIED:20230417T195933Z
UID:10000530-1664465400-1664472600@iondistrict.com
SUMMARY:Ion Startup University: Product - Startwell
DESCRIPTION:Ion Startup University: Product – Startwell\n\n\nWade Pinder is the founder of the Houston Product Community\, mentors Product Managers and early-stage entrepreneurs\, and served as Product Manager for Houston-based companies\, including Blinds.com/GCC. He is currently a Principal Consultant at Improving here in Houston and a frequent guest lecturer in Rice’s BUSI 222 & MGMT 732. In this session\, Wade will share the “Product Thinking” aspects you’ll need in place on your way to launching a Minimal Viable Product (MVP).  Topics will include Framing the problem statement\, considering product personas\, forming a product vision and strategy\, ideation\, identifying an MVP\, building a product roadmap\, and starting a product backlog. \nA﻿bout Improving:\nImproving is a modern digital services company dedicated to positively changing the perception of the IT professional. We offer innovative solutions through IT consulting\, software development and agile training to help thousands of our clients achieve new heights in a competitive and ever-changing market. \nParking Instructions\nEnter 4203 Fannin Street into your GPS for directions directly to this parking lot\, located across the street from The Ion building.
URL:https://iondistrict.com/event/ion-startup-university-product-startwell/
LOCATION:Ion\, 4201 Main Street\, Houston\, TX\, 77002\, United States
END:VEVENT
END:VCALENDAR