BEGIN:VCALENDAR
VERSION:2.0
PRODID:-//Ion District - ECPv6.15.18//NONSGML v1.0//EN
CALSCALE:GREGORIAN
METHOD:PUBLISH
X-WR-CALNAME:Ion District
X-ORIGINAL-URL:https://iondistrict.com
X-WR-CALDESC:Events for Ion District
REFRESH-INTERVAL;VALUE=DURATION:PT1H
X-Robots-Tag:noindex
X-PUBLISHED-TTL:PT1H
BEGIN:VTIMEZONE
TZID:America/Chicago
BEGIN:DAYLIGHT
TZOFFSETFROM:-0600
TZOFFSETTO:-0500
TZNAME:CDT
DTSTART:20250309T080000
END:DAYLIGHT
BEGIN:STANDARD
TZOFFSETFROM:-0500
TZOFFSETTO:-0600
TZNAME:CST
DTSTART:20251102T070000
END:STANDARD
BEGIN:DAYLIGHT
TZOFFSETFROM:-0600
TZOFFSETTO:-0500
TZNAME:CDT
DTSTART:20260308T080000
END:DAYLIGHT
BEGIN:STANDARD
TZOFFSETFROM:-0500
TZOFFSETTO:-0600
TZNAME:CST
DTSTART:20261101T070000
END:STANDARD
BEGIN:DAYLIGHT
TZOFFSETFROM:-0600
TZOFFSETTO:-0500
TZNAME:CDT
DTSTART:20270314T080000
END:DAYLIGHT
BEGIN:STANDARD
TZOFFSETFROM:-0500
TZOFFSETTO:-0600
TZNAME:CST
DTSTART:20271107T070000
END:STANDARD
END:VTIMEZONE
BEGIN:VEVENT
DTSTART;TZID=America/Chicago:20260423T180000
DTEND;TZID=America/Chicago:20260423T190000
DTSTAMP:20260423T050847
CREATED:20251219T211527Z
LAST-MODIFIED:20260422T212608Z
UID:10004398-1776967200-1776970800@iondistrict.com
SUMMARY:NASA Tech Talks: The NASA Force Initiative
DESCRIPTION:We want HOU! Join us to discover NASA’s toughest tech challenges—and apply your skills and expertise to solve them. \nThis month’s NASA Tech Talk will focus on technology development ideas that JSC has put together for the Agency’s “NASA Force” initiative. “America’s leadership in space depends on extraordinary talent\,” said NASA Administrator Jared Isaacman. “NASA Force will help us attract the next generation of innovators and technical experts who are ready to solve the toughest challenges in exploration\, science\, and aerospace technology. This partnership strengthens our workforce and helps ensure the United States remains the global leader in space.” Molly Bannon will describe these opportunities\, how they were developed\, and how you might be able to participate! We’ll also have a little bit of information about the recent flight of Artemis II\, and other recent events at NASA. \nPlease join us after the talk for drinks and networking at Second Draught! \n  \nAbout the Speakers \nMolly Bannon is an innovation and strategy specialist for the Business Development and Technology Integration Office at NASA Johnson Space Center (JSC). In this role\, she serves as a key bridge for universities\, industry\, and international partners\, helping them navigate and connect with NASA JSC’s unique capabilities and services to foster strategic partnerships. \nShe most recently worked as the Concept Engineering Group Lead within NASA JSC’s Engineering Directorate. As part of this role\, she led the Forge (JSC’s Concurrent Engineering Team) and was the founder responsible for establishing that capability at NASA JSC. In 2019\, she spent one year at the Jet Propulsion Laboratory (JPL) working on the Europa Clipper Flight System as a systems engineer. Prior to JPL\, she spent 10 years at JSC in systems engineering and technical design roles for various human spaceflight programs\, including: the Orion Program\, the Commercial Crew Program\, the Human Landing System Program and the EVA and Human Surface Mobility Program. Molly began her career as a co-op in JSC’s Aerosciences Branch\, where she provided aerothermal expertise for the Orion Multi-Purpose Crew Vehicle (MPCV) Aerosciences Team\, contributing to the successful Exploration Flight Test (EFT-1) in 2014. \nMolly (White) Bannon received her B.S. in Aerospace Engineering from Iowa State University and her M.S. degree in Aerospace Engineering from Georgia Tech. In her free time\, she enjoys traveling\, exploring the outdoors with her family and goldendoodle\, and picking up (and quickly dropping) new hobbies. \nMontgomery B. Goforth   has more than 40 years of experience as both Engineer and Manager in a variety of highly technical space and defense-related efforts.  After working for a small defense contractor specializing in anti-submarine warfare\, he joined NASA’s Johnson Space Center in 1990.  He has held leadership positions in multiple JSC Directorates and Program Offices. In his previous role as Assistant Director of the JSC Engineering Directorate\, he established a framework to better focus Engineering’s efforts towards Human Spaceflight technology and systems development consistent with JSC and Agency goals for exploration. Mr. Goforth is now serving as Acting Director of the Business Development & Technology Integration Office at JSC\, and as the JSC Chief Technologist.  In these capacities he will be helping to expand the Houston Aerospace Community through the identification of opportunities to develop space/terrestrial technologies of interest to JSC and Human Space Exploration.  Mr. Goforth was born in East Texas\, raised in Southern California and Arizona\, and graduated from Rice University (BSME 1982\, MSME 1987). \nAbout NASA Tech Talks \nIn these presentations\, occurring the fourth Thursdays of the month\, Mr. Montgomery Goforth and other aerospace subject matter experts will discuss the technology development challenges faced by NASA’s Johnson Space Center and the surrounding Aerospace community in our ongoing efforts as the hub of human spaceflight. Presentations will focus on the ways in which these challenges\, and the associated opportunities\, can be leveraged by Houston’s innovation community. We will continue to identify potential space/terrestrial technologies of interest to Human Spaceflight.  Past NASA Tech Talks have included topics such as: \n\nFrom Space to Startup: Leveraging NASA Technology and Innovation to Propel Your Growing Enterprise\nDisruptive Filter Technology for Spacecraft Water Treatment:  The New Promise of Graphene\nLunar dust capture using novel multiplexed inertial filter\nLunar Passive Fuel Cell Technologies:\nMicrobes in Space
URL:https://iondistrict.com/event/nasa-tech-talks-24/
LOCATION:Ion – Conference Room 032\, 4201 Main St\, Houston
CATEGORIES:Aerospace,Founders & Startups,General Community
ATTACH;FMTTYPE=image/jpeg:https://iondistrict.com/wp-content/uploads/2025/12/DSC_0352-scaled.jpg
END:VEVENT
END:VCALENDAR