BEGIN:VCALENDAR
VERSION:2.0
PRODID:-//Ion District - ECPv6.15.18//NONSGML v1.0//EN
CALSCALE:GREGORIAN
METHOD:PUBLISH
X-WR-CALNAME:Ion District
X-ORIGINAL-URL:https://iondistrict.com
X-WR-CALDESC:Events for Ion District
REFRESH-INTERVAL;VALUE=DURATION:PT1H
X-Robots-Tag:noindex
X-PUBLISHED-TTL:PT1H
BEGIN:VTIMEZONE
TZID:America/Chicago
BEGIN:DAYLIGHT
TZOFFSETFROM:-0600
TZOFFSETTO:-0500
TZNAME:CDT
DTSTART:20250309T080000
END:DAYLIGHT
BEGIN:STANDARD
TZOFFSETFROM:-0500
TZOFFSETTO:-0600
TZNAME:CST
DTSTART:20251102T070000
END:STANDARD
BEGIN:DAYLIGHT
TZOFFSETFROM:-0600
TZOFFSETTO:-0500
TZNAME:CDT
DTSTART:20260308T080000
END:DAYLIGHT
BEGIN:STANDARD
TZOFFSETFROM:-0500
TZOFFSETTO:-0600
TZNAME:CST
DTSTART:20261101T070000
END:STANDARD
BEGIN:DAYLIGHT
TZOFFSETFROM:-0600
TZOFFSETTO:-0500
TZNAME:CDT
DTSTART:20270314T080000
END:DAYLIGHT
BEGIN:STANDARD
TZOFFSETFROM:-0500
TZOFFSETTO:-0600
TZNAME:CST
DTSTART:20271107T070000
END:STANDARD
END:VTIMEZONE
BEGIN:VEVENT
DTSTART;TZID=America/Chicago:20260326T180000
DTEND;TZID=America/Chicago:20260326T190000
DTSTAMP:20260420T065812
CREATED:20251215T174338Z
LAST-MODIFIED:20260309T180123Z
UID:10004380-1774548000-1774551600@iondistrict.com
SUMMARY:NASA Tech Talks: Spotlight on the Receiving Inspection and Test Facility (RITF)
DESCRIPTION:We want HOU! Join us to discover NASA’s toughest tech challenges—and apply your skills and expertise to solve them. \nMark your calendar for March 26\, 2026\, as NASA’s Tech Talk will showcase the Receiving Inspection and Test Facility (RITF) located at the NASA Johnson Space Center. Recognized as a nationally accredited laboratory\, the RITF lab stands at the forefront of risk mitigation for spaceflight\, serving as the crucial last line of defense before hardware is introduced into mission-critical environments. The facility employs cutting-edge mechanical and electrical screening\, advanced non-destructive evaluation techniques\, and comprehensive failure analysis to identify and intercept counterfeit or substandard components\, thereby protecting vital national space assets.  Through stringent verification processes and exceptional workmanship standards\, the RITF lab bolsters supply chain integrity for both governmental agencies and industry partners. This unwavering dedication to quality is essential to maintaining mission assurance for NASA and its commercial collaborators\, ensuring that every flight-ready component meets the rigorous requirements demanded by human spaceflight and highly reliable space systems.  As a longstanding national asset\, the RITF’s contributions have been crucial in advancing spaceflight safety. We invite you to join us for this engaging NASA Tech Talk to gain deeper insight into the facility’s impressive capabilities and services. Discover how your organization can leverage RITF’s expertise\, explore ways to enhance your own operations\, and consider opportunities for partnership and collaboration. \nRITF Capabilities & Services Highlights: \n\nCounterfeit parts detection utilizing methods such as X‑Ray Fluorescence Spectroscopy\, Destructive Physical Analysis\, Optical Emission Spectroscopy\, Real‑Time Radiography\, and Scanning Electron Microscopy\nNationally accredited ISO 9000\, AS9100 and ISO/IEC 17025 verification and evaluation services supporting NASA\, commercial partners\, and external customers requiring high‑reliability components.\nMechanical testing: tensile\, hardness\, shear\, and additional material verification techniques\nElectrical screening of components and assemblies for authenticity and performance reliability\nNon‑destructive evaluation (NDE) used for failure analysis\nFailure analysis to identify root causes and prevent recurrence in mission‑critical hardware\nWorkmanship training courses covering soldering\, surface-mount technology\, crimping\, conformal coating\, fiber‑optic terminations\, and ESD management\n\nPlease join us after the talk for drinks and networking at Second Draught! \n  \nAbout the Speakers \nPaula Gothreaux has more than 30 years of experience as both Engineer and Manager in a variety of aerospace Safety and Mission Assurance (SMA) disciplines (safety\, risk\, reliability\, quality\, etc.)\, as well as human spaceflight vehicle flight readiness and commercial design consulting efforts. She joined the SMA contractor team in 1995\, later spent over a decade as an engineering consultant\, and ultimately returned to the SMA Engineering Contract (SMAEC) team to lead several SMA teams and projects. Paula has held leadership positions in multiple SMA disciplines and projects. In her current role as SMAEC SAIC Chief SMA Engineer\, she leads safety and mission assurance innovation and engineering oversite for all support and services to programs and projects at NASA Johnson Space Center via the Safety and Mission Assurance Engineering Contract. Paula is a native of west central Louisiana and holds a B.S. in Electrical Engineering from McNeese State University (1994) and an M.S. in Computer Engineering from the University of Houston – Clear Lake (2004). \nMontgomery B. Goforth   has more than 40 years of experience as both Engineer and Manager in a variety of highly technical space and defense-related efforts.  After working for a small defense contractor specializing in anti-submarine warfare\, he joined NASA’s Johnson Space Center in 1990.  He has held leadership positions in multiple JSC Directorates and Program Offices. In his previous role as Assistant Director of the JSC Engineering Directorate\, he established a framework to better focus Engineering’s efforts towards Human Spaceflight technology and systems development consistent with JSC and Agency goals for exploration. Mr. Goforth is now serving as Acting Director of the Business Development & Technology Integration Office at JSC\, and as the JSC Chief Technologist.  In these capacities he will be helping to expand the Houston Aerospace Community through the identification of opportunities to develop space/terrestrial technologies of interest to JSC and Human Space Exploration.  Mr. Goforth was born in East Texas\, raised in Southern California and Arizona\, and graduated from Rice University (BSME 1982\, MSME 1987). \nAbout NASA Tech Talks \nIn these presentations\, occurring the fourth Thursdays of the month\, Mr. Montgomery Goforth and other aerospace subject matter experts will discuss the technology development challenges faced by NASA’s Johnson Space Center and the surrounding Aerospace community in our ongoing efforts as the hub of human spaceflight. Presentations will focus on the ways in which these challenges\, and the associated opportunities\, can be leveraged by Houston’s innovation community. We will continue to identify potential space/terrestrial technologies of interest to Human Spaceflight.  Past NASA Tech Talks have included topics such as: \n\nFrom Space to Startup: Leveraging NASA Technology and Innovation to Propel Your Growing Enterprise\nDisruptive Filter Technology for Spacecraft Water Treatment:  The New Promise of Graphene\nLunar dust capture using novel multiplexed inertial filter\nLunar Passive Fuel Cell Technologies:\nMicrobes in Space
URL:https://iondistrict.com/event/nasa-tech-talks-17/
LOCATION:Ion\, 4201 Main Street\, Houston\, TX\, 77002\, United States
CATEGORIES:Aerospace,Founders & Startups,General Community
ATTACH;FMTTYPE=image/jpeg:https://iondistrict.com/wp-content/uploads/2025/12/DSC_0352-scaled.jpg
END:VEVENT
END:VCALENDAR