BEGIN:VCALENDAR
VERSION:2.0
PRODID:-//Ion District - ECPv6.15.18//NONSGML v1.0//EN
CALSCALE:GREGORIAN
METHOD:PUBLISH
X-ORIGINAL-URL:https://iondistrict.com
X-WR-CALDESC:Events for Ion District
REFRESH-INTERVAL;VALUE=DURATION:PT1H
X-Robots-Tag:noindex
X-PUBLISHED-TTL:PT1H
BEGIN:VTIMEZONE
TZID:America/Chicago
BEGIN:DAYLIGHT
TZOFFSETFROM:-0600
TZOFFSETTO:-0500
TZNAME:CDT
DTSTART:20250309T080000
END:DAYLIGHT
BEGIN:STANDARD
TZOFFSETFROM:-0500
TZOFFSETTO:-0600
TZNAME:CST
DTSTART:20251102T070000
END:STANDARD
BEGIN:DAYLIGHT
TZOFFSETFROM:-0600
TZOFFSETTO:-0500
TZNAME:CDT
DTSTART:20260308T080000
END:DAYLIGHT
BEGIN:STANDARD
TZOFFSETFROM:-0500
TZOFFSETTO:-0600
TZNAME:CST
DTSTART:20261101T070000
END:STANDARD
BEGIN:DAYLIGHT
TZOFFSETFROM:-0600
TZOFFSETTO:-0500
TZNAME:CDT
DTSTART:20270314T080000
END:DAYLIGHT
BEGIN:STANDARD
TZOFFSETFROM:-0500
TZOFFSETTO:-0600
TZNAME:CST
DTSTART:20271107T070000
END:STANDARD
END:VTIMEZONE
BEGIN:VEVENT
DTSTART;TZID=America/Chicago:20260306T083000
DTEND;TZID=America/Chicago:20260306T100000
DTSTAMP:20260421T124624
CREATED:20260225T182534Z
LAST-MODIFIED:20260225T182534Z
UID:10004881-1772785800-1772791200@iondistrict.com
SUMMARY:Your Marketing Sounds Fine. That's The Problem.
DESCRIPTION:Register here: https://www.eventbrite.com/e/your-marketing-sounds-fine-thats-the-problem-tickets-1983164103218 \nHow Purpose Helps Your Brand Stand Out (Without Sounding Like Everyone Else)\nIf your marketing sounds “fine\,” it’s probably being ignored. \nIn this interactive workshop\, Anh Nguyen\, Chief Brand Amplifier at Amplified Marketing\, will help you uncover why your messaging blends in—and what to do instead. \nThis isn’t about rewriting your mission statement. \nIt’s about clarifying what your brand or organization truly stands for—and using that clarity to shape messaging that feels: \nMore human\nMore confident\nMore memorable\nMore distinctly yours
URL:https://iondistrict.com/event/your-marketing-sounds-fine-thats-the-problem/
LOCATION:Ion\, 4201 Main Street\, Houston\, TX\, 77002\, United States
ATTACH;FMTTYPE=image/jpeg:https://iondistrict.com/wp-content/uploads/2026/02/IHH-Mar-6.jpg
END:VEVENT
BEGIN:VEVENT
DTSTART;TZID=America/Chicago:20260306T083000
DTEND;TZID=America/Chicago:20260306T103000
DTSTAMP:20260421T124624
CREATED:20250729T190850Z
LAST-MODIFIED:20250825T225437Z
UID:10004053-1772785800-1772793000@iondistrict.com
SUMMARY:Ion Networking with Cup of Joey
DESCRIPTION:What is the purpose of Cup of Joey? It is to create a connected culture of coffee shop-open networking across our region. Every Friday morning\, you’ll have the opportunity to meet new and expand your current networks\, talk about tech\, inspire innovation\, and create community. \nSo\, what is the difference between a cup of joe and a Cup of Joe-Y? It is the WHY. It’s not what you do. It is why you do it! \nAt the Ion\, these are questions that we want to explore with the tech and innovation community. So\, show up\, be friendly\, and make new connections. Know your why\, and we will get to the future together. \nThe future is only a cup away. \nRegister Here: https://www.cupofjoey.org/
URL:https://iondistrict.com/event/ion-networking-with-cup-of-joey-34/2026-03-06/
LOCATION:Ion – Lobby\, 4201 Main St.\, Houston\, 77002\, United States
CATEGORIES:3rd Party Registration,Academic Network,Community Event,Corporate Innovators,Founders & Startups,General Community,Investors & Capital,Networking,Office Hours,Start Here
ATTACH;FMTTYPE=image/jpeg:https://iondistrict.com/wp-content/uploads/2024/07/CoJ1.jpg
END:VEVENT
BEGIN:VEVENT
DTSTART;TZID=America/Chicago:20260306T090000
DTEND;TZID=America/Chicago:20260306T103000
DTSTAMP:20260421T124624
CREATED:20260105T201625Z
LAST-MODIFIED:20260105T201641Z
UID:10004436-1772787600-1772793000@iondistrict.com
SUMMARY:⭕️Cybersecurity Circle⭕️
DESCRIPTION:Our mission is to DEFEAT CYBER CRIMINALS by making cybersecurity knowledge accessible and relatable to everyone. This event creates a supportive environment for individuals starting their cybersecurity journey\, those transitioning into the field\, and professionals navigating job transitions—including those rebuilding confidence after layoffs. Together\, we strengthen our collective defense against cyber threats while fostering career growth and community connections.\nThe ⭕️Cybersecurity Circle⭕️ unites practitioners of all levels in an inclusive community committed to defeating cybercrime through shared knowledge\, collaboration\, and continuous learning. Together\, we’re securing our digital world—one hack at a time
URL:https://iondistrict.com/event/%e2%ad%95%ef%b8%8fcybersecurity-circle%e2%ad%95%ef%b8%8f-19/
LOCATION:Ion\, 4201 Main Street\, Houston\, TX\, 77002\, United States
ATTACH;FMTTYPE=image/png:https://iondistrict.com/wp-content/uploads/2026/01/⭕️CYBERSECURITY-CIRCLE⭕️.png
END:VEVENT
BEGIN:VEVENT
DTSTART;TZID=America/Chicago:20260306T100000
DTEND;TZID=America/Chicago:20260306T113000
DTSTAMP:20260421T124624
CREATED:20260227T184848Z
LAST-MODIFIED:20260227T184848Z
UID:10004885-1772791200-1772796600@iondistrict.com
SUMMARY:SCORE Office Hours
DESCRIPTION:About SCORE Office Hours \nSCORE is the nation’s largest network of volunteer\, expert business mentors. Since 1964\, SCORE has helped more than 11 million entrepreneurs start\, grow\, or successfully exit a business. SCORE’s 10\,000 volunteers provide free\, expert mentoring\, resources\, and education in all 50 U.S. states and territories. \nOffice Hours with SCORE take place each Friday morning. Additional partners will be on-site the second Friday of each month (excluding holidays)
URL:https://iondistrict.com/event/score-office-hours-32/
LOCATION:Ion\, 4201 Main Street\, Houston\, TX\, 77002\, United States
CATEGORIES:Founders & Startups,General Community,Networking,Office Hours,Start Here
ATTACH;FMTTYPE=image/jpeg:https://iondistrict.com/wp-content/uploads/2023/05/6H1A1559-HDR-Edit-scaled.jpg
END:VEVENT
BEGIN:VEVENT
DTSTART;TZID=America/Chicago:20260306T103000
DTEND;TZID=America/Chicago:20260306T113000
DTSTAMP:20260421T124624
CREATED:20260223T143613Z
LAST-MODIFIED:20260223T143613Z
UID:10004828-1772793000-1772796600@iondistrict.com
SUMMARY:Startup Circle Houston 💫
DESCRIPTION:Startup Circle Houston 💫 brings together founders\, teammates\, experts and newbies of startups in Greater Houston! Past topics include: \nTraction + Funding Stage Identification – What stage are you really at?\nICP – Seeking your beachhead market\nProblem Identification – Love the problem\, not the solution\nBootstrapping – Knowing your runway and not putting money on fire. 🔥\nFounder capacity\, 10xing and recruiting for your weaknesses. 🚀\n\nLinkedIn Group: https://www.linkedin.com/groups/16537030/
URL:https://iondistrict.com/event/startup-circle-houston-%f0%9f%92%ab-6/2026-03-06/
LOCATION:Ion – Lobby\, 4201 Main St.\, Houston\, 77002\, United States
CATEGORIES:3rd Party Registration,Academic Network,Community Event,Corporate Innovators,Founders & Startups,General Community,Investors & Capital,Networking,Office Hours,Start Here
ATTACH;FMTTYPE=image/jpeg:https://iondistrict.com/wp-content/uploads/2026/01/Startup-Circle-Houston.jpeg
END:VEVENT
END:VCALENDAR