BEGIN:VCALENDAR
VERSION:2.0
PRODID:-//Ion District - ECPv6.15.18//NONSGML v1.0//EN
CALSCALE:GREGORIAN
METHOD:PUBLISH
X-ORIGINAL-URL:https://iondistrict.com
X-WR-CALDESC:Events for Ion District
REFRESH-INTERVAL;VALUE=DURATION:PT1H
X-Robots-Tag:noindex
X-PUBLISHED-TTL:PT1H
BEGIN:VTIMEZONE
TZID:America/Chicago
BEGIN:DAYLIGHT
TZOFFSETFROM:-0600
TZOFFSETTO:-0500
TZNAME:CDT
DTSTART:20240310T080000
END:DAYLIGHT
BEGIN:STANDARD
TZOFFSETFROM:-0500
TZOFFSETTO:-0600
TZNAME:CST
DTSTART:20241103T070000
END:STANDARD
BEGIN:DAYLIGHT
TZOFFSETFROM:-0600
TZOFFSETTO:-0500
TZNAME:CDT
DTSTART:20250309T080000
END:DAYLIGHT
BEGIN:STANDARD
TZOFFSETFROM:-0500
TZOFFSETTO:-0600
TZNAME:CST
DTSTART:20251102T070000
END:STANDARD
BEGIN:DAYLIGHT
TZOFFSETFROM:-0600
TZOFFSETTO:-0500
TZNAME:CDT
DTSTART:20260308T080000
END:DAYLIGHT
BEGIN:STANDARD
TZOFFSETFROM:-0500
TZOFFSETTO:-0600
TZNAME:CST
DTSTART:20261101T070000
END:STANDARD
END:VTIMEZONE
BEGIN:VEVENT
DTSTART;TZID=America/Chicago:20250820T173000
DTEND;TZID=America/Chicago:20250820T183000
DTSTAMP:20260420T070005
CREATED:20250128T210321Z
LAST-MODIFIED:20250820T190212Z
UID:10002879-1755711000-1755714600@iondistrict.com
SUMMARY:Angel Investing 101: Valuation and Term Sheets
DESCRIPTION:Join the Urban Capital Network for an informative talk regarding due diligence of Angel investment opportunities. \nOne of the most challenging tasks when evaluating a company before it has revenue is determining a value. There are no agreed upon standards\, and often no comparables\, unlike companies that have a longer track record with historical financial statements\, assets\, and revenue. Ultimately\, early-stage valuations are determined through negotiations between investors and founders. Each has their own assumptions\, projections and financial goals. Equipped with tools and a strategy will help you develop a basis for negotiations. Join Urban Capital Network for an introduction to valuation strategies and negotiating deal terms for early-stage investments. \nDuring the session\, you can expect to learn the following: \n\nHow to assess and apply valuation factors and criteria\,\nValuation Methods\,\nTerm sheet basics\,\nNegotiation points.\n\nAbout the speaker \nLenny Saizan is the co-founder and Managing Director of Urban Capital Network (UCN)\, an investment firm dedicated to democratizing premium investment opportunities for a wider range of investors. In addition\, he owns and operates Murphy Business Brokerage – Southwest Houston\, where he assists business owners with exit planning\, value maximization\, and the sale of their businesses. He also supports buyers interested in business acquisitions or franchises. \nBefore establishing UCN and his business brokerage\, Lenny worked for 10 years as an Electrical Engineer\, specializing in automation\, controls\, and systems integration. He then transitioned to the oil and gas industry\, where he spent another decade leading teams in financial and operational controls\, as well as audit. \nLenny holds a Bachelor of Science in Electrical Engineering from Louisiana State University and an MBA from Tulane University. He is a Certified Mergers & Acquisition Professional\, a Six Sigma Green Belt\, and a Project Management Professional. In 2023\, he was honored as an Outstanding Diversity Champion by the Houston Business Journal. \n \n 
URL:https://iondistrict.com/event/angel-investing-101-valuation-and-term-sheets-2/
LOCATION:Ion – Conference Room 031\, 4201 Main St.\, Houston\, TX\, 77002\, United States
CATEGORIES:Founders & Startups,Investors & Capital,Networking
ATTACH;FMTTYPE=image/jpeg:https://iondistrict.com/wp-content/uploads/2024/09/IMG_1630-scaled.jpeg
END:VEVENT
BEGIN:VEVENT
DTSTART;TZID=America/Chicago:20250820T173000
DTEND;TZID=America/Chicago:20250820T183000
DTSTAMP:20260420T070005
CREATED:20250128T211414Z
LAST-MODIFIED:20250820T185301Z
UID:10002883-1755711000-1755714600@iondistrict.com
SUMMARY:Perfecting Your Pitch
DESCRIPTION:Whether you’re a budding entrepreneur\, a visionary startup owner\, or a tech aficionado\, this event is tailor-made for you. Join us and discover the indispensable value of a compelling pitch deck. \nAbout the Speakers \nDr. Doug Franklin \n“Dr. Doug” is the CEO and Co-Founder of DeckLaunch and the COO of Fresh Tech Solutionz. He has fifteen years of management\, marketing\, and operations experience\, including opportunities with iconic firms such as Coca-Cola\, ExxonMobil\, and RJ Reynolds. Dr. Franklin is also a leading scholar that has presented at more than a dozen conferences and has published in peer-reviewed journals such as The Leadership Quarterly and The Journal of the Texas Alliance of Black School Educators. Dr. Franklin graduated with a Doctoral Degree in Ethical Leadership from the University of St. Thomas Houston and currently teaches Quantitative and Mixed Research Methods at UST. \nDerrell Noris \nWith more than ten years dedicated to developing business operations and software development\, Noris is currently the Co-Founder and CTO of Deck Launch and the CEO of Fresh Tech Solutionz. Both successful startups provide services to growing businesses looking to mobilize their outreach further. \nNicholas Mbaezue-Daniel Jr. \nNick is the founder of Egis Project Management LLC\, a project management firm dedicated to supporting entrepreneurs and small businesses for projects in the industries of Construction\, Technology\, and Business Enterprise. He also serves as Director of Project Management for Fresh Tech Solutionz and as Chief Operations Officer at DeckLaunch LLC. Nicholas considers himself a servant of entrepreneurship because he sees entrepreneurship as a major vehicle to uplift the community.
URL:https://iondistrict.com/event/perfecting-your-pitch-24/
LOCATION:Ion – Conference Room 028\, 4201 Main St.\, Houston\, TX\, 77002\, United States
CATEGORIES:Founders & Startups,General Community,Networking,Start Here
ATTACH;FMTTYPE=image/jpeg:https://iondistrict.com/wp-content/uploads/2024/12/DSC_8090-scaled.jpg
END:VEVENT
BEGIN:VEVENT
DTSTART;TZID=America/Chicago:20250820T180000
DTEND;TZID=America/Chicago:20250820T200000
DTSTAMP:20260420T070005
CREATED:20250818T171453Z
LAST-MODIFIED:20250826T183617Z
UID:10003960-1755712800-1755720000@iondistrict.com
SUMMARY:Houston Linux User Group
DESCRIPTION:Are you interested or already invested in the Linux Operating System? \nJoin us at the Houston Linux User Group\, one of the oldest user groups involved with the Linux Operating System. We discuss new trends in operating system usage\, software development\, and current technological trends\, as well as provide one-on-one training or class-based instruction. Learn about how to get more out of your computer or how to leverage any of the Linux-based computational platforms. \nAll are welcome to attend\, regardless of whether you’re a seasoned Linux professional intent on networking or a new Linux user struggling with installation or the command line. \nThis monthly meeting includes all of the standard Houston Linux User Group meeting activities\, which include meet-and-greet\, presentations of personal projects\, multi-meeting classes\, as well as organizational and coordinating announcements. \nThis event will be held at the Ion in the lower level of the building. The Ion is part of a tech district in Houston called the Ion District. For more information\, click here. \nYou can find directions to the Ion District Garage and the Red Parking Lot here. After you park\, walk into the Ion\, and ask the security guard to point you to Conference 029 – 030. \nYou’ll find us there! \n 
URL:https://iondistrict.com/event/houston-linux-user-group/
LOCATION:Ion – Conference Room 029 – 030\, 4201 Main St\, Houston\, TX\, 77002\, United States
ATTACH;FMTTYPE=image/png:https://iondistrict.com/wp-content/uploads/2025/08/75902-tux-kernel-racer-penguins-linux-penguin.png
END:VEVENT
END:VCALENDAR