BEGIN:VCALENDAR
VERSION:2.0
PRODID:-//Ion District - ECPv6.15.18//NONSGML v1.0//EN
CALSCALE:GREGORIAN
METHOD:PUBLISH
X-ORIGINAL-URL:https://iondistrict.com
X-WR-CALDESC:Events for Ion District
REFRESH-INTERVAL;VALUE=DURATION:PT1H
X-Robots-Tag:noindex
X-PUBLISHED-TTL:PT1H
BEGIN:VTIMEZONE
TZID:America/Chicago
BEGIN:DAYLIGHT
TZOFFSETFROM:-0600
TZOFFSETTO:-0500
TZNAME:CDT
DTSTART:20240310T080000
END:DAYLIGHT
BEGIN:STANDARD
TZOFFSETFROM:-0500
TZOFFSETTO:-0600
TZNAME:CST
DTSTART:20241103T070000
END:STANDARD
BEGIN:DAYLIGHT
TZOFFSETFROM:-0600
TZOFFSETTO:-0500
TZNAME:CDT
DTSTART:20250309T080000
END:DAYLIGHT
BEGIN:STANDARD
TZOFFSETFROM:-0500
TZOFFSETTO:-0600
TZNAME:CST
DTSTART:20251102T070000
END:STANDARD
BEGIN:DAYLIGHT
TZOFFSETFROM:-0600
TZOFFSETTO:-0500
TZNAME:CDT
DTSTART:20260308T080000
END:DAYLIGHT
BEGIN:STANDARD
TZOFFSETFROM:-0500
TZOFFSETTO:-0600
TZNAME:CST
DTSTART:20261101T070000
END:STANDARD
END:VTIMEZONE
BEGIN:VEVENT
DTSTART;TZID=America/Chicago:20250513T130000
DTEND;TZID=America/Chicago:20250513T170000
DTSTAMP:20260422T110215
CREATED:20250502T221458Z
LAST-MODIFIED:20250502T221458Z
UID:10003053-1747141200-1747155600@iondistrict.com
SUMMARY:Ion Prototyping Lab Office Hours
DESCRIPTION:What is the Ion Prototyping Lab (IPL)?\nThe Ion Prototyping Lab is where your ideas meet the designers\, engineers\, and fabricators that can make them a reality. Located at The Ion\, the intersection of Houston’s culture\, creativity\, and innovation. Our 6\,500-square-foot site offers access to equipment\, engineers\, and technical training–a must for every inventor\, innovator\, and creator. \nThe Ion Prototyping Lab Office Hours offer entrepreneurs a chance to engage an expert one-on-one and explore options for building or producing their devices. Everyone from seasoned entrepreneurs to educators or “just a person with an idea” is welcome. Walk-ins are served on a first-come\, first-served basis. \nThe initial discussion is free\, but subsequent meetings may require a consultation fee.\nFor more information about the IPL – be sure to check out their website and sign up for their newsletter to stay connected! The IPL offers various classes/workshops throughout the month – be sure to check out their calendar to register.\nInterested in signing up for a membership? Click here
URL:https://iondistrict.com/event/ion-prototyping-lab-office-hours-68/
LOCATION:Ion Prototyping Lab\, 4201 Main St.\, Suite 170\, Houston\, TX\, 77002\, United States
CATEGORIES:Academic Network,Founders & Startups,General Community,Hardware,Ion Prototyping Lab
ATTACH;FMTTYPE=image/jpeg:https://iondistrict.com/wp-content/uploads/2023/07/ipl_office_hours-scaled.jpg
ORGANIZER;CN="Ion Prototyping Lab":MAILTO:ipl@ionhouston.com
END:VEVENT
BEGIN:VEVENT
DTSTART;TZID=America/Chicago:20250513T170000
DTEND;TZID=America/Chicago:20250513T190000
DTSTAMP:20260422T110215
CREATED:20250423T185945Z
LAST-MODIFIED:20250424T194701Z
UID:10003036-1747155600-1747162800@iondistrict.com
SUMMARY:Manufacturing Sector Networking
DESCRIPTION:​Join us May 13 for Manufacturing Sector Networking\, sponsored by Puffer-Sweiven! Connect with Greentown startups in the manufacturing sector around cutting-edge solutions for sustainable and resilient manufacturing during this evening of networking. \nRegister here: https://greentownlabs.com/event/manufacturing-sector-networking/ \nAbout Puffer-Sweiven\nSince 1945\, Puffer-Sweiven has set the standard in equipment and services for process control\, automation\, safety\, and reliability. The company’s tenured staff of industry experts consistently collaborates and delivers solutions to complex challenges and enables process-intensive facilities to run more efficiently and safely. \nAs an Emerson Impact Partner\, Puffer-Sweiven serves as a local\, single point of contact for sales\, service\, and applied engineering for Emerson Automation Solutions in the Texas Gulf Coast and Central Texas area. \nAs part of an integrated\, Emerson-certified network\, Puffer-Sweivan can combine its local capabilities with those of other members in North America to share resources and expertise that leverage Emerson’s global reach and technologies. It can help customers achieve Top Quartile performance aligned with Emerson’s Operational Certainty and Project Certainty methodologies. \nPuffer-Sweiven is an independent\, employee-owned company. It represents a broad portfolio of products and solutions from a large group of leading manufacturers including Emerson Automation Solutions. \nPuffer-Sweiven ensures that its employees’ success is directly tied to the success of its customers and the company through its Employee Stock Ownership Plan (ESOP). This tight link drives more than exceptional employee performance and satisfied customers. It fosters a collaborative\, family-oriented culture where team members demonstrate appreciation for each other in meaningful ways. \nPuffer-Sweiven lives its philosophy – Collaborate. Solve. Deliver. \nAs needs change and industries adapt\, so does Puffer-Sweiven. The company is proud to play a key part in influencing many of today’s industry standards. It looks forward to partnering with the startup community and other corporate partners to foster a positive environmental and social impact.
URL:https://iondistrict.com/event/manufacturing-sector-networking/
LOCATION:Greentown Labs\, 4200 San Jacinto St\, Houston\, TX\, 77002\, United States
ATTACH;FMTTYPE=image/png:https://iondistrict.com/wp-content/uploads/2025/04/energy-sector-networking-1-2.png
END:VEVENT
END:VCALENDAR