BEGIN:VCALENDAR
VERSION:2.0
PRODID:-//Ion District - ECPv6.15.18//NONSGML v1.0//EN
CALSCALE:GREGORIAN
METHOD:PUBLISH
X-WR-CALNAME:Ion District
X-ORIGINAL-URL:https://iondistrict.com
X-WR-CALDESC:Events for Ion District
REFRESH-INTERVAL;VALUE=DURATION:PT1H
X-Robots-Tag:noindex
X-PUBLISHED-TTL:PT1H
BEGIN:VTIMEZONE
TZID:America/Chicago
BEGIN:DAYLIGHT
TZOFFSETFROM:-0600
TZOFFSETTO:-0500
TZNAME:CDT
DTSTART:20240310T080000
END:DAYLIGHT
BEGIN:STANDARD
TZOFFSETFROM:-0500
TZOFFSETTO:-0600
TZNAME:CST
DTSTART:20241103T070000
END:STANDARD
BEGIN:DAYLIGHT
TZOFFSETFROM:-0600
TZOFFSETTO:-0500
TZNAME:CDT
DTSTART:20250309T080000
END:DAYLIGHT
BEGIN:STANDARD
TZOFFSETFROM:-0500
TZOFFSETTO:-0600
TZNAME:CST
DTSTART:20251102T070000
END:STANDARD
BEGIN:DAYLIGHT
TZOFFSETFROM:-0600
TZOFFSETTO:-0500
TZNAME:CDT
DTSTART:20260308T080000
END:DAYLIGHT
BEGIN:STANDARD
TZOFFSETFROM:-0500
TZOFFSETTO:-0600
TZNAME:CST
DTSTART:20261101T070000
END:STANDARD
END:VTIMEZONE
BEGIN:VEVENT
DTSTART;TZID=America/Chicago:20250322T110000
DTEND;TZID=America/Chicago:20250322T140000
DTSTAMP:20260419T085829
CREATED:20250104T211633Z
LAST-MODIFIED:20250104T211633Z
UID:10002729-1742641200-1742652000@iondistrict.com
SUMMARY:IPL Learning: Intro to 3D Printing
DESCRIPTION:Learn the basics of Additive Manufacturing at the Ion Prototyping Lab’s Intro to 3D Printing workshop. \nDiscover the potential of 3D printing as a powerful tool for rapid fabrication and prototyping. In this 3-hour workshop\, participants will gain comprehensive knowledge about Additive Manufacturing technologies and the operation of Fused Deposition Modeling (FDM) 3D printers. \nFundamentals of CNC: Understand the principles behind Additive Manufacturing and its role in modern fabrication processes. \nDesign for 3D Printing: Explore how to optimize and prepare your digital files for successful\, high-quality prints. \nSlicing Techniques: Gain insight into slicing software\, covering topics such as infill patterns\, layer height resolution\, and more to optimize your 3D prints. \nHands-On Experience: By the conclusion of this workshop\, participants will have acquired the knowledge to prepare and operate a variety of consumer and industrial FDM printers. \nDon’t miss this opportunity to expand your prototyping skills and gain valuable experience in 3D printing. Space is limited\, so reserve your spot today! \nNote: Experience with 3D Computer-Aided Design (CAD) is helpful but not required. We encourage participants to bring their own laptops for a more personalized experience. All necessary materials\, resources\, and software information will be provided upon registration. \nClass participants will be able to audit the class to reinforce / refresh their knowledge for 6 months after completing the class at no additional charge. In addition\, they can come to the Ion Prototype Lab during Office Hours for general assistance with their designs. \n 
URL:https://iondistrict.com/event/ipl-learning-intro-to-3d-printing-5/
LOCATION:Ion Prototyping Lab\, 4201 Main St.\, Suite 170\, Houston\, TX\, 77002\, United States
CATEGORIES:Academic Network,General Community,Hardware,Ion Prototyping Lab,Paid Event
ATTACH;FMTTYPE=image/jpeg:https://iondistrict.com/wp-content/uploads/2024/09/IPL_3dPrinting.jpg
ORGANIZER;CN="Ion Prototyping Lab":MAILTO:ipl@ionhouston.com
END:VEVENT
END:VCALENDAR