BEGIN:VCALENDAR
VERSION:2.0
PRODID:-//Ion District - ECPv6.15.18//NONSGML v1.0//EN
CALSCALE:GREGORIAN
METHOD:PUBLISH
X-WR-CALNAME:Ion District
X-ORIGINAL-URL:https://iondistrict.com
X-WR-CALDESC:Events for Ion District
REFRESH-INTERVAL;VALUE=DURATION:PT1H
X-Robots-Tag:noindex
X-PUBLISHED-TTL:PT1H
BEGIN:VTIMEZONE
TZID:America/Chicago
BEGIN:DAYLIGHT
TZOFFSETFROM:-0600
TZOFFSETTO:-0500
TZNAME:CDT
DTSTART:20240310T080000
END:DAYLIGHT
BEGIN:STANDARD
TZOFFSETFROM:-0500
TZOFFSETTO:-0600
TZNAME:CST
DTSTART:20241103T070000
END:STANDARD
BEGIN:DAYLIGHT
TZOFFSETFROM:-0600
TZOFFSETTO:-0500
TZNAME:CDT
DTSTART:20250309T080000
END:DAYLIGHT
BEGIN:STANDARD
TZOFFSETFROM:-0500
TZOFFSETTO:-0600
TZNAME:CST
DTSTART:20251102T070000
END:STANDARD
BEGIN:DAYLIGHT
TZOFFSETFROM:-0600
TZOFFSETTO:-0500
TZNAME:CDT
DTSTART:20260308T080000
END:DAYLIGHT
BEGIN:STANDARD
TZOFFSETFROM:-0500
TZOFFSETTO:-0600
TZNAME:CST
DTSTART:20261101T070000
END:STANDARD
END:VTIMEZONE
BEGIN:VEVENT
DTSTART;TZID=America/Chicago:20250116T173000
DTEND;TZID=America/Chicago:20250116T193000
DTSTAMP:20260419T103128
CREATED:20241217T225743Z
LAST-MODIFIED:20250115T023549Z
UID:10002625-1737048600-1737055800@iondistrict.com
SUMMARY:Houston HIMSS: Houston Methodist Innovation Discussion
DESCRIPTION:Register here: https://www.eventbrite.com/e/houston-methodist-innovation-techhub-event-registration-1110287422569 \nJoin the Houston HIMSS Chapter at the Houston Methodist Tech Hub @ Ion for an innovation discussion with Murat Uralkan\, Director of Innovation at Houston Methodist Center for Innovation\, and Evan D. Collins\, MD\, MBA\, Orthopaedic Surgeon\, Chief of the Houston Methodist Hand & Upper Extremity Center\, and Innovator-in-Residency for the Houston Methodist Center for Innovation.
URL:https://iondistrict.com/event/houston-himss-houston-methodist-innovation-discussion/
LOCATION:Houston Methodist Tech Hub\, 4201 Main St\, Houston
CATEGORIES:3rd Party Registration,Corporate Innovators,Founders & Startups,General Community,MedTech/HealthTech,Panel Dicussion,Register on Eventbrite
ATTACH;FMTTYPE=image/jpeg:https://iondistrict.com/wp-content/uploads/2024/12/321A7871-Edit-scaled.jpg
END:VEVENT
BEGIN:VEVENT
DTSTART;TZID=America/Chicago:20250116T193000
DTEND;TZID=America/Chicago:20250116T213000
DTSTAMP:20260419T103128
CREATED:20241114T221926Z
LAST-MODIFIED:20250514T142331Z
UID:10002826-1737055800-1737063000@iondistrict.com
SUMMARY:Houston VR Meetup at Nexus
DESCRIPTION:Are you captivated by the endless possibilities of Virtual Reality? \nJoin us at the Ion Prototyping Lab for a monthly Houston VR meetup. Join a diverse community for an engaging session of hardware trials\, captivating demos\, and engaging discussions\, all revolving around the latest trends and advancements in Virtual and Augmented Reality. \nAll are welcome to attend\, regardless of whether you’re a seasoned VR enthusiast\, a budding developer\, or simply curious about the realm of Virtual Reality. \nEach meeting includes informative discussions of both current and forthcoming VR/AR hardware and software\, providing attendees with valuable insights into the evolving landscape of these technologies. \nMark your calendars and become part of the virtual revolution. We look forward to seeing you at the next Houston VR meetup!
URL:https://iondistrict.com/event/houston-vr-meetup-at-ion-prototyping-lab-4/2025-01-16/
LOCATION:Rice Nexus\, 4201 Main St - Suite 175\, Houston\, TX\, 77002
CATEGORIES:AR/VR,E-Sports,Hardware,Ion Prototyping Lab,Networking
ATTACH;FMTTYPE=image/jpeg:https://iondistrict.com/wp-content/uploads/2023/08/IPLHoustonVR.jpg
END:VEVENT
END:VCALENDAR