BEGIN:VCALENDAR
VERSION:2.0
PRODID:-//Ion District - ECPv6.15.18//NONSGML v1.0//EN
CALSCALE:GREGORIAN
METHOD:PUBLISH
X-WR-CALNAME:Ion District
X-ORIGINAL-URL:https://iondistrict.com
X-WR-CALDESC:Events for Ion District
REFRESH-INTERVAL;VALUE=DURATION:PT1H
X-Robots-Tag:noindex
X-PUBLISHED-TTL:PT1H
BEGIN:VTIMEZONE
TZID:America/Chicago
BEGIN:DAYLIGHT
TZOFFSETFROM:-0600
TZOFFSETTO:-0500
TZNAME:CDT
DTSTART:20230312T080000
END:DAYLIGHT
BEGIN:STANDARD
TZOFFSETFROM:-0500
TZOFFSETTO:-0600
TZNAME:CST
DTSTART:20231105T070000
END:STANDARD
BEGIN:DAYLIGHT
TZOFFSETFROM:-0600
TZOFFSETTO:-0500
TZNAME:CDT
DTSTART:20240310T080000
END:DAYLIGHT
BEGIN:STANDARD
TZOFFSETFROM:-0500
TZOFFSETTO:-0600
TZNAME:CST
DTSTART:20241103T070000
END:STANDARD
BEGIN:DAYLIGHT
TZOFFSETFROM:-0600
TZOFFSETTO:-0500
TZNAME:CDT
DTSTART:20250309T080000
END:DAYLIGHT
BEGIN:STANDARD
TZOFFSETFROM:-0500
TZOFFSETTO:-0600
TZNAME:CST
DTSTART:20251102T070000
END:STANDARD
END:VTIMEZONE
BEGIN:VEVENT
DTSTART;TZID=America/Chicago:20240514T130000
DTEND;TZID=America/Chicago:20240514T170000
DTSTAMP:20260425T101240
CREATED:20240119T202955Z
LAST-MODIFIED:20240413T015408Z
UID:10000798-1715691600-1715706000@iondistrict.com
SUMMARY:Ion Prototyping Lab Office Hours
DESCRIPTION:What is the Ion Prototyping Lab (IPL)?\nThe Ion Prototyping Lab is where your ideas meet the designers\, engineers\, and fabricators that can make them a reality. Located at The Ion\, the intersection of Houston’s culture\, creativity\, and innovation. Our 6\,500-square-foot site offers access to equipment\, engineers\, and technical training–a must for every inventor\, innovator\, and creator. \nThe Ion Prototyping Lab Office Hours offer entrepreneurs a chance to engage an expert one-on-one and explore options for building or producing their devices. Everyone from seasoned entrepreneurs to educators or “just a person with an idea” is welcome. Walk-ins are served on a first-come\, first-served basis. \nThe initial discussion is free\, but subsequent meetings may require a consultation fee.\nFor more information about the IPL – be sure to check out their website and sign up for their newsletter to stay connected! The IPL offers various classes/workshops throughout the month – be sure to check out their calendar to register.\nInterested in signing up for a membership? Click here
URL:https://iondistrict.com/event/ion-prototyping-lab-office-hours-13-4/2024-05-14/
LOCATION:Ion Prototyping Lab\, 4201 Main St.\, Suite 170\, Houston\, TX\, 77002\, United States
CATEGORIES:Academic Network,Founders & Startups,General Community,Hardware,Ion Prototyping Lab
ATTACH;FMTTYPE=image/jpeg:https://iondistrict.com/wp-content/uploads/2023/07/ipl_office_hours-scaled.jpg
ORGANIZER;CN="Ion Prototyping Lab":MAILTO:ipl@ionhouston.com
END:VEVENT
BEGIN:VEVENT
DTSTART;TZID=America/Chicago:20240514T153000
DTEND;TZID=America/Chicago:20240514T190000
DTSTAMP:20260425T101240
CREATED:20240429T223658Z
LAST-MODIFIED:20240514T190417Z
UID:10001145-1715700600-1715713200@iondistrict.com
SUMMARY:Software Day at the Ion: Raising Seed Capital in Uncertain Times
DESCRIPTION:Welcome to “Software Day at the Ion” – a program series hosted by the Ion and Mercury\, where software founders can connect with mentorship at Houston’s HQ for innovation. \nWhat is it: Software Day is a monthly series driving the support\, inspiration\, and connections needed to help startups on their path to rapid\, sustainable growth. Each month\, Software Day will include office hours (by application)\, a keynote session\, and networking. \nJoin us as we bring together leading mentors\, promising startups\, and like-minded Houstonians focused on transformative software innovations. \nThe series kicks off on Tuesday\, May 14th at the Ion with a panel discussion on “Raising Seed Capital in Uncertain Times” followed by a networking happy hour at Second Draught\, brought to you by Gunderson Dettmer\, where you can connect with fellow entrepreneurs\, investors\, and industry professionals\, forging connections that could shape the future of your company. \nBlair Garrou\, Managing Director at Mercury\, will kickoff the event. Heath Butler\, Venture Partner at Mercury\, will moderate the panel. \nPanelist:  \n\nDevina Bhojwani\, President and Co-Founder\, STEAM on Demand\nRaShaun Brown\, CEO and Co-Founder\, ScreenSkinz\nGaurav Khandelwal\, CEO\, Velostics\n\nPrior to the panel discussion\, a select group of early-stage software startups will participate in office hours. Over the course of 2-hours\, first-time entrepreneurs looking for guidance or seasoned founders needing help tackling tough challenges will have access to a group of curated mentors from the Mercury network and gain insights and guidance tailored to their needs. Startups are invited to apply until May 6 for the May 14th event. The ideal profile of a company for this mentorship program is a pre-Series A software startup that is in the early stages of revenue generation. Interested startups are encouraged to submit their applications here. Each month\, startups will be selected to participate in the mentor office hours.\n\n“Software Day at the Ion” isn’t just an event – it’s a catalyst for growth and collaboration. Don’t miss this opportunity to be part of Houston’s thriving tech ecosystem. \n 
URL:https://iondistrict.com/event/software-day-at-the-ion-0514/
LOCATION:Ion – Forum Stairs\, 4201 Main St.\, Houston\, TX\, 77002\, United States
CATEGORIES:Founders & Startups,Investors & Capital,Keynote,Mentorship,Networking
ATTACH;FMTTYPE=image/png:https://iondistrict.com/wp-content/uploads/2024/04/240510_2-Software-Day-WebGraphic.png
END:VEVENT
BEGIN:VEVENT
DTSTART;TZID=America/Chicago:20240514T180000
DTEND;TZID=America/Chicago:20240514T190000
DTSTAMP:20260425T101240
CREATED:20240513T185940Z
LAST-MODIFIED:20240524T153748Z
UID:10001234-1715709600-1715713200@iondistrict.com
SUMMARY:Code4Y'all:  How to Launch an App in Under a Year on a Budget
DESCRIPTION:Are you interested in learning how to launch an app within a year on a budget? \nDiscover the steps\, technologies\, and processes she used to bring her app to market quickly without overspending. Gain practical insights and actionable advice for your own app projects. \nDon’t miss this chance to learn how to turn your app ideas into reality efficiently and cost-effectively! This event welcomes seasoned professionals to those looking to get into tech. Please register in advance as seats are limited. Code4y’all welcomes everyone. \nJoin us! \nAbout the Speaker\nJoin us to learn from Tamara Pensiero\, founder of Kismmet\, as she shares her journey of developing and launching a mobile app in less than a year on a budget.
URL:https://iondistrict.com/event/code4yall-how-to-launch-an-app-in-under-a-year-on-a-budget/
LOCATION:TX
CATEGORIES:Academic Network,All Communities,Founders & Startups,General Community
ATTACH;FMTTYPE=image/jpeg:https://iondistrict.com/wp-content/uploads/2023/04/KAP6525-scaled.jpg
END:VEVENT
END:VCALENDAR