BEGIN:VCALENDAR
VERSION:2.0
PRODID:-//Ion District - ECPv6.15.18//NONSGML v1.0//EN
CALSCALE:GREGORIAN
METHOD:PUBLISH
X-ORIGINAL-URL:https://iondistrict.com
X-WR-CALDESC:Events for Ion District
REFRESH-INTERVAL;VALUE=DURATION:PT1H
X-Robots-Tag:noindex
X-PUBLISHED-TTL:PT1H
BEGIN:VTIMEZONE
TZID:America/Chicago
BEGIN:DAYLIGHT
TZOFFSETFROM:-0600
TZOFFSETTO:-0500
TZNAME:CDT
DTSTART:20230312T080000
END:DAYLIGHT
BEGIN:STANDARD
TZOFFSETFROM:-0500
TZOFFSETTO:-0600
TZNAME:CST
DTSTART:20231105T070000
END:STANDARD
BEGIN:DAYLIGHT
TZOFFSETFROM:-0600
TZOFFSETTO:-0500
TZNAME:CDT
DTSTART:20240310T080000
END:DAYLIGHT
BEGIN:STANDARD
TZOFFSETFROM:-0500
TZOFFSETTO:-0600
TZNAME:CST
DTSTART:20241103T070000
END:STANDARD
BEGIN:DAYLIGHT
TZOFFSETFROM:-0600
TZOFFSETTO:-0500
TZNAME:CDT
DTSTART:20250309T080000
END:DAYLIGHT
BEGIN:STANDARD
TZOFFSETFROM:-0500
TZOFFSETTO:-0600
TZNAME:CST
DTSTART:20251102T070000
END:STANDARD
END:VTIMEZONE
BEGIN:VEVENT
DTSTART;TZID=America/Chicago:20240226T093000
DTEND;TZID=America/Chicago:20240226T113000
DTSTAMP:20260422T083312
CREATED:20240201T213932Z
LAST-MODIFIED:20240209T154454Z
UID:10001014-1708939800-1708947000@iondistrict.com
SUMMARY:Blackstreet  x  Visionary Voices: Exploring Frontiers with Dr. Bernard Harris Jr.
DESCRIPTION:Celebrate Black History Month with a special installment of Ion’s “Visionary Voices” speaker series featuring Dr. Bernard Harris Jr.\, a NASA astronaut and first African American to walk in space\, founder\, CEO\, philanthropist\, and venture capitalist. Together\, we’ll dive into Dr. Harris’ remarkable life and experiences with a riveting fireside chat hosted by Rice University President Reginald DesRoches. \nPrepare to be captivated as we delve into the depths of Dr. Harris’ groundbreaking achievements\, from historic spacewalks to transformative contributions in healthcare innovation and STEM education. \nRegistration is free and open while space permits. We hope you’ll join us for this ‘once in a blue moon’ opportunity that promises to ignite your imagination and inspire you to break your own frontiers. \nAgenda:  \n9:30 a.m. – Check-in \n9:30 – 10:30 a.m. – Networking breakfast \n10:30 – 11:30 a.m. – Fireside chat on the Ion Forum Stairs\, moderated by Rice University President Reginald DesRoches \nDr. Bernard Harris Jr.  \nDr. Harris was at NASA for ten years\, where he conducted research in musculoskeletal physiology and clinical investigations of space adaptation and developed in-flight medical devices to extend Astronaut stays in space.  A veteran astronaut for over twenty years\, he has logged more than 438 hours and traveled over 7.2 million miles in space\, and became the first African American to walk in space through the join Russian-American Space Program in 1995. \nDr. Harris is currently Chief Executive Officer and Managing Partner of Vesalius Ventures\, Inc.\, a venture capital firm\, that invests in early-to mid-stage healthcare technologies and companies. He is also the Founder of the Harris Foundation\, a non-profit organization that supports math/science education and crime prevention programs for America’s youth. \nHe earned a Bachelor of Science in Biology from the University of Houston\, a Master of Medical Science from the University of Texas Medical Branch at Galveston\, a Master of Business Administration (MBA) from the University of Houston and a Doctorate of Medicine from Texas Tech University School of Medicine.  He completed a Residency in Internal Medicine at the Mayo Clinic\, a National Research Council Fellowship in Endocrinology at the NASA Ames Research Center and trained as a Flight Surgeon at the Aerospace School of Medicine\, Brooks Air Force Base. He is also a licensed private pilot and certified scuba diver. \nDr. Harris is the author of “Dream Walker: A Journey of Achievement and Inspiration.” His goals in life have been achieved through self-empowerment and self-determination.  He believes that education and effort will allow anyone to meet any challenge in life\, inspiring others to reaches for the stars. \n 
URL:https://iondistrict.com/event/visionary-voices-exploring-frontiers-with-dr-bernard-harris-jr/
LOCATION:Ion – Forum Stairs\, 4201 Main St.\, Houston\, TX\, 77002\, United States
CATEGORIES:Aerospace,All Communities,Blackstreet,Community Event,Human Performance,MedTech/HealthTech,Networking
ATTACH;FMTTYPE=image/jpeg:https://iondistrict.com/wp-content/uploads/2024/02/240201-WebGraphic-01-scaled.jpg
END:VEVENT
END:VCALENDAR