BEGIN:VCALENDAR
VERSION:2.0
PRODID:-//Ion District - ECPv6.15.18//NONSGML v1.0//EN
CALSCALE:GREGORIAN
METHOD:PUBLISH
X-ORIGINAL-URL:https://iondistrict.com
X-WR-CALDESC:Events for Ion District
REFRESH-INTERVAL;VALUE=DURATION:PT1H
X-Robots-Tag:noindex
X-PUBLISHED-TTL:PT1H
BEGIN:VTIMEZONE
TZID:America/Chicago
BEGIN:DAYLIGHT
TZOFFSETFROM:-0600
TZOFFSETTO:-0500
TZNAME:CDT
DTSTART:20220313T080000
END:DAYLIGHT
BEGIN:STANDARD
TZOFFSETFROM:-0500
TZOFFSETTO:-0600
TZNAME:CST
DTSTART:20221106T070000
END:STANDARD
BEGIN:DAYLIGHT
TZOFFSETFROM:-0600
TZOFFSETTO:-0500
TZNAME:CDT
DTSTART:20230312T080000
END:DAYLIGHT
BEGIN:STANDARD
TZOFFSETFROM:-0500
TZOFFSETTO:-0600
TZNAME:CST
DTSTART:20231105T070000
END:STANDARD
BEGIN:DAYLIGHT
TZOFFSETFROM:-0600
TZOFFSETTO:-0500
TZNAME:CDT
DTSTART:20240310T080000
END:DAYLIGHT
BEGIN:STANDARD
TZOFFSETFROM:-0500
TZOFFSETTO:-0600
TZNAME:CST
DTSTART:20241103T070000
END:STANDARD
END:VTIMEZONE
BEGIN:VEVENT
DTSTART;TZID=America/Chicago:20230510T100000
DTEND;TZID=America/Chicago:20230510T120000
DTSTAMP:20260424T032825
CREATED:20230417T193058Z
LAST-MODIFIED:20230417T193058Z
UID:10000399-1683712800-1683720000@iondistrict.com
SUMMARY:Poptarts & Pitches
DESCRIPTION:Join us on Wednesdays  at 10 AM on the Lower Level to learn about the art of pitching and get valuable feedback on your deck!
URL:https://iondistrict.com/event/poptarts-pitches-4/
LOCATION:Ion\, 4201 Main Street\, Houston\, TX\, 77002\, United States
END:VEVENT
BEGIN:VEVENT
DTSTART;TZID=America/Chicago:20230510T183000
DTEND;TZID=America/Chicago:20230510T193000
DTSTAMP:20260424T032825
CREATED:20230502T202910Z
LAST-MODIFIED:20230505T205129Z
UID:10000555-1683743400-1683747000@iondistrict.com
SUMMARY:Code4Y’all: Intro to Robotics
DESCRIPTION:Join Code4Y’all\, formerly freeCodeCamp Houston\, for “Intro to Robotics” on May 10 at 6:30 p.m. This event is designed for people who are learning to code and want to learn more about the exciting field of robotics. \nDuring the event\, you will have the opportunity to meet and network with like-minded individuals who are interested in exploring the world of robotics. You will also learn about the basics of robotics and how to get started with building your own robot. \nThe speakers are Mike Schoonover\, Hunter Schoonover\, and Giselle Schoonover\, who will be sharing their knowledge and experience\, providing valuable insights and tips on how to get started with robotics and programming. The team currently works out of the Ion Prototyping Lab. \nRefreshments will be served. Space is limited. Registration required.
URL:https://iondistrict.com/event/code4yall-intro-to-robotics/
LOCATION:Ion\, 4201 Main Street\, Houston\, TX\, 77002\, United States
CATEGORIES:Founders & Startups,General Community
ATTACH;FMTTYPE=image/jpeg:https://iondistrict.com/wp-content/uploads/2023/05/unnamed-1-scaled.jpg
END:VEVENT
END:VCALENDAR