BEGIN:VCALENDAR
VERSION:2.0
PRODID:-//Ion District - ECPv6.15.18//NONSGML v1.0//EN
CALSCALE:GREGORIAN
METHOD:PUBLISH
X-ORIGINAL-URL:https://iondistrict.com
X-WR-CALDESC:Events for Ion District
REFRESH-INTERVAL;VALUE=DURATION:PT1H
X-Robots-Tag:noindex
X-PUBLISHED-TTL:PT1H
BEGIN:VTIMEZONE
TZID:America/Chicago
BEGIN:DAYLIGHT
TZOFFSETFROM:-0600
TZOFFSETTO:-0500
TZNAME:CDT
DTSTART:20220313T080000
END:DAYLIGHT
BEGIN:STANDARD
TZOFFSETFROM:-0500
TZOFFSETTO:-0600
TZNAME:CST
DTSTART:20221106T070000
END:STANDARD
BEGIN:DAYLIGHT
TZOFFSETFROM:-0600
TZOFFSETTO:-0500
TZNAME:CDT
DTSTART:20230312T080000
END:DAYLIGHT
BEGIN:STANDARD
TZOFFSETFROM:-0500
TZOFFSETTO:-0600
TZNAME:CST
DTSTART:20231105T070000
END:STANDARD
BEGIN:DAYLIGHT
TZOFFSETFROM:-0600
TZOFFSETTO:-0500
TZNAME:CDT
DTSTART:20240310T080000
END:DAYLIGHT
BEGIN:STANDARD
TZOFFSETFROM:-0500
TZOFFSETTO:-0600
TZNAME:CST
DTSTART:20241103T070000
END:STANDARD
END:VTIMEZONE
BEGIN:VEVENT
DTSTART;TZID=America/Chicago:20230504T160000
DTEND;TZID=America/Chicago:20230504T190000
DTSTAMP:20260422T052253
CREATED:20230417T193045Z
LAST-MODIFIED:20230428T174706Z
UID:10000351-1683216000-1683226800@iondistrict.com
SUMMARY:Ion Block Party
DESCRIPTION:Join us every first Thursday of the month on the plaza for live music and local brews provided by Second Draught.\n\n\nWe are teaming up with Blue People for our next Ion Block Party! This block party\, in particular\, will feature tacos vendors\, refreshments\, and tech office hours. We will have tech leaders and SMEs on-site to meet and answer any questions you have about Web3\, Agile Methodologies\, Cloud\, Cybersecurity\, Product Ownership\, and Software Development. \nAttendees will also be able to enjoy live music by The Slags on the plaza and local brews at Second Draught. \nIon Block Party takes place the first Thursday of every month from 4 – 7 PM. Every guest who registers and checks in will receive one free drink ticket that can be redeemed at Second Draught. \nWe can’t wait to Taco ‘Bout Tech together.
URL:https://iondistrict.com/event/ion-block-party/
LOCATION:Ion\, 4201 Main Street\, Houston\, TX\, 77002\, United States
CATEGORIES:Academic Network,Corporate Innovators,Founders & Startups,General Community,Investors & Capital
ATTACH;FMTTYPE=image/jpeg:https://iondistrict.com/wp-content/uploads/2023/04/972e201273929a87e5104e5f65c8b891.jpg
END:VEVENT
END:VCALENDAR