BEGIN:VCALENDAR
VERSION:2.0
PRODID:-//Ion District - ECPv6.15.18//NONSGML v1.0//EN
CALSCALE:GREGORIAN
METHOD:PUBLISH
X-WR-CALNAME:Ion District
X-ORIGINAL-URL:https://iondistrict.com
X-WR-CALDESC:Events for Ion District
REFRESH-INTERVAL;VALUE=DURATION:PT1H
X-Robots-Tag:noindex
X-PUBLISHED-TTL:PT1H
BEGIN:VTIMEZONE
TZID:America/Chicago
BEGIN:DAYLIGHT
TZOFFSETFROM:-0600
TZOFFSETTO:-0500
TZNAME:CDT
DTSTART:20220313T080000
END:DAYLIGHT
BEGIN:STANDARD
TZOFFSETFROM:-0500
TZOFFSETTO:-0600
TZNAME:CST
DTSTART:20221106T070000
END:STANDARD
BEGIN:DAYLIGHT
TZOFFSETFROM:-0600
TZOFFSETTO:-0500
TZNAME:CDT
DTSTART:20230312T080000
END:DAYLIGHT
BEGIN:STANDARD
TZOFFSETFROM:-0500
TZOFFSETTO:-0600
TZNAME:CST
DTSTART:20231105T070000
END:STANDARD
BEGIN:DAYLIGHT
TZOFFSETFROM:-0600
TZOFFSETTO:-0500
TZNAME:CDT
DTSTART:20240310T080000
END:DAYLIGHT
BEGIN:STANDARD
TZOFFSETFROM:-0500
TZOFFSETTO:-0600
TZNAME:CST
DTSTART:20241103T070000
END:STANDARD
END:VTIMEZONE
BEGIN:VEVENT
DTSTART;TZID=America/Chicago:20230501T100000
DTEND;TZID=America/Chicago:20230501T120000
DTSTAMP:20260424T045227
CREATED:20230417T193044Z
LAST-MODIFIED:20230428T175019Z
UID:10000350-1682935200-1682942400@iondistrict.com
SUMMARY:Ion Open Accelerator: Designing & Manufacturing A PCBA
DESCRIPTION:Join us to learn how to design and manufacture a printed circuit board assembly (PCBA) for hardware startups.\n\n\nThis workshop will provide an overview of the process of designing and manufacturing a printed circuit board assembly (PCBA) for hardware startups. The session will start by discussing the steps involved in bringing a hardware design from an idea to a final product\, including overcoming restrictions in your in-house engineering resources\, cost engineering\, prototyping\, and design for manufacturing (DFM) considerations. \nThe workshop will then cover the various options for purchasing and production\, including working with a contract manufacturer or setting up in-house manufacturing. Throughout the session\, there will be a focus on the unique challenges and opportunities facing early-stage startups in an accelerator environment. \nBy the end of the workshop\, participants will have a better understanding of how hardware can create a massive competitive advantage and how they can confidently move in the hardware space. \nAbout the Speakers: Adrian Leal and Brian Laney \n\n\nParking Instructions: Enter 4203 Fannin Street into your GPS for directions directly to the red parking lot\, located across the street from the Ion building.
URL:https://iondistrict.com/event/ion-open-accelerator-designing-manufacturing-a-pcba/
LOCATION:Ion\, 4201 Main Street\, Houston\, TX\, 77002\, United States
ATTACH;FMTTYPE=image/jpeg:https://iondistrict.com/wp-content/uploads/2023/04/0cc0bf1acf8cccd611498b3cf3b0378e.jpg
END:VEVENT
BEGIN:VEVENT
DTSTART;TZID=America/Chicago:20230501T180000
DTEND;TZID=America/Chicago:20230501T190000
DTSTAMP:20260424T045227
CREATED:20230417T193036Z
LAST-MODIFIED:20230501T140239Z
UID:10000338-1682964000-1682967600@iondistrict.com
SUMMARY:Mingle Mondays: FinTech
DESCRIPTION:Join us on the first Monday of the month as we build Houston’s FinTech community the Ion!
URL:https://iondistrict.com/event/mingle-mondays-fintech/
LOCATION:Ion\, 4201 Main Street\, Houston\, TX\, 77002\, United States
CATEGORIES:Academic Network,Corporate Innovators,FinTech,Founders & Startups,Investors & Capital
ATTACH;FMTTYPE=image/jpeg:https://iondistrict.com/wp-content/uploads/2023/04/230501-FinTech-scaled.jpg
END:VEVENT
END:VCALENDAR